BEGIN:VCALENDAR
VERSION:2.0
PRODID:-//LegalWorks - ECPv6.15.20//NONSGML v1.0//EN
CALSCALE:GREGORIAN
METHOD:PUBLISH
X-WR-CALNAME:LegalWorks
X-ORIGINAL-URL:https://legalworksneo.org
X-WR-CALDESC:Events for LegalWorks
REFRESH-INTERVAL;VALUE=DURATION:PT1H
X-Robots-Tag:noindex
X-PUBLISHED-TTL:PT1H
BEGIN:VTIMEZONE
TZID:America/New_York
BEGIN:DAYLIGHT
TZOFFSETFROM:-0500
TZOFFSETTO:-0400
TZNAME:EDT
DTSTART:20250309T070000
END:DAYLIGHT
BEGIN:STANDARD
TZOFFSETFROM:-0400
TZOFFSETTO:-0500
TZNAME:EST
DTSTART:20251102T060000
END:STANDARD
BEGIN:DAYLIGHT
TZOFFSETFROM:-0500
TZOFFSETTO:-0400
TZNAME:EDT
DTSTART:20260308T070000
END:DAYLIGHT
BEGIN:STANDARD
TZOFFSETFROM:-0400
TZOFFSETTO:-0500
TZNAME:EST
DTSTART:20261101T060000
END:STANDARD
BEGIN:DAYLIGHT
TZOFFSETFROM:-0500
TZOFFSETTO:-0400
TZNAME:EDT
DTSTART:20270314T070000
END:DAYLIGHT
BEGIN:STANDARD
TZOFFSETFROM:-0400
TZOFFSETTO:-0500
TZNAME:EST
DTSTART:20271107T060000
END:STANDARD
END:VTIMEZONE
BEGIN:VEVENT
DTSTART;TZID=America/New_York:20260509T130000
DTEND;TZID=America/New_York:20260509T160000
DTSTAMP:20260425T064026
CREATED:20260415T173307Z
LAST-MODIFIED:20260415T173330Z
UID:10006902-1778331600-1778342400@legalworksneo.org
SUMMARY:LegalWorks Clinic @ Lee Seville Baptist Church
DESCRIPTION:Clinic: LegalWorks @ Lee Seville Baptist Church\nThe event will take place on Saturday\, May 9th at the Lee Seville Baptist Church on Lee Road in Cleveland. \nLegalWorks lawyers and volunteers will be on hand to help resolve legal issues such as: \n\nCriminal Record Sealing\nCriminal Record Expungement\nArrest Warrant Removal\nDriving Privilege Restoration Assistance\n\nAdditionally\, members of the public can request our help with: \n\nSimple Wills\nPower of Attorneys\nDeeds\n\nLegalWorks is a 501(c)(3) Non-profit based in Cleveland\, Ohio. We provide our legal services at low and no-cost (for qualifying individuals).
URL:https://legalworksneo.org/event/legalworks-clinic-lee-seville-baptist-church
LOCATION:Lee Seville Baptist Church\, 4831 Lee Rd.\, Cleveland\, OH\, 44128\, United States
CATEGORIES:Clinic
ATTACH;FMTTYPE=image/webp:https://legalworksneo.org/wp-content/uploads/2025/09/5Z6A6110-X2.webp
ORGANIZER;CN="LegalWorks":MAILTO:info@legalworksneo.org
END:VEVENT
END:VCALENDAR